BEGIN:VCALENDAR
VERSION:2.0
PRODID:-//PNA Park Lodge 513 - ECPv6.15.20//NONSGML v1.0//EN
CALSCALE:GREGORIAN
METHOD:PUBLISH
X-ORIGINAL-URL:https://pnapark.com
X-WR-CALDESC:Events for PNA Park Lodge 513
REFRESH-INTERVAL;VALUE=DURATION:PT1H
X-Robots-Tag:noindex
X-PUBLISHED-TTL:PT1H
BEGIN:VTIMEZONE
TZID:UTC
BEGIN:STANDARD
TZOFFSETFROM:+0000
TZOFFSETTO:+0000
TZNAME:UTC
DTSTART:20240101T000000
END:STANDARD
END:VTIMEZONE
BEGIN:VEVENT
DTSTART;TZID=UTC:20251114T183000
DTEND;TZID=UTC:20251114T183000
DTSTAMP:20260421T202750
CREATED:20240821T160229Z
LAST-MODIFIED:20251022T203214Z
UID:1954-1763145000-1763145000@pnapark.com
SUMMARY:Friday Night Feast & Awards @ PNA Park
DESCRIPTION:Join us and celebrate National Polish Heritage Month! \n“PNA Friday Night Feast”\nFriday\, November 14\, 2025 @ 6:30 pm \nPolish National Alliance Park (PNA Park) 171 No. Plains Industrial Road Wallingford \nFeaturing CZAPIGA’S Polish Market of Meriden \n*Menu includes: Kielbasa\, Pierogi\, Kapusta\, Golabki\, salad\, &amp; more…\nOur Annual Awards will be presented for PNA Service & Community Friend of the PNA \nMaja Laska-Graham will receive the PNA Service Award and Michael Papale the Friend of the Polish Community Award \n*Food will be sold separately for this event and is $20.00 per plate \nWe need you to please “STOP down the Bar/Clubroom“ to purchase your meal ticket in advance of the event by November 1st\nOur bartenders will be ready to serve up your favorite beverage(s)\nWe’ll have music for your listening &amp; dancing pleasure \nRemember to always log onto www.pnapark.com for everything PNA in Wallingford… \nMembers and their guests are always welcome! \nDownload Flyer Here
URL:https://pnapark.com/event/friday-night-feast-awards-pna-park/
LOCATION:CT
ATTACH;FMTTYPE=image/jpeg:https://pnapark.com/wp-content/uploads/2024/08/pna-friday-night-feast.jpg
END:VEVENT
END:VCALENDAR